BEGIN:VCALENDAR
VERSION:2.0
PRODID:-//Federsanità - ECPv6.15.17//NONSGML v1.0//EN
CALSCALE:GREGORIAN
METHOD:PUBLISH
X-ORIGINAL-URL:https://federsanita.it
X-WR-CALDESC:Eventi per Federsanità
REFRESH-INTERVAL;VALUE=DURATION:PT1H
X-Robots-Tag:noindex
X-PUBLISHED-TTL:PT1H
BEGIN:VTIMEZONE
TZID:Europe/Rome
BEGIN:DAYLIGHT
TZOFFSETFROM:+0100
TZOFFSETTO:+0200
TZNAME:CEST
DTSTART:20200329T010000
END:DAYLIGHT
BEGIN:STANDARD
TZOFFSETFROM:+0200
TZOFFSETTO:+0100
TZNAME:CET
DTSTART:20201025T010000
END:STANDARD
BEGIN:DAYLIGHT
TZOFFSETFROM:+0100
TZOFFSETTO:+0200
TZNAME:CEST
DTSTART:20210328T010000
END:DAYLIGHT
BEGIN:STANDARD
TZOFFSETFROM:+0200
TZOFFSETTO:+0100
TZNAME:CET
DTSTART:20211031T010000
END:STANDARD
BEGIN:DAYLIGHT
TZOFFSETFROM:+0100
TZOFFSETTO:+0200
TZNAME:CEST
DTSTART:20220327T010000
END:DAYLIGHT
BEGIN:STANDARD
TZOFFSETFROM:+0200
TZOFFSETTO:+0100
TZNAME:CET
DTSTART:20221030T010000
END:STANDARD
END:VTIMEZONE
BEGIN:VEVENT
DTSTART;TZID=Europe/Rome:20211117T163000
DTEND;TZID=Europe/Rome:20211118T170000
DTSTAMP:20260420T193723
CREATED:20211109T100451Z
LAST-MODIFIED:20211109T100451Z
UID:1402-1637166600-1637254800@federsanita.it
SUMMARY:Il sistema dell'Emergenza Urgenza per la sopravvivenza del SSN: Il futuro della sanità non si aspetta\, si costruisce
DESCRIPTION:Il meeting rappresenta un fondamentale appuntamento di lavoro per il mondo della Medicina d’Emergenza Urgenza Italiana: la riunione annuale di tutti i Direttori di Struttura Complessa di Medicina e Chirurgia d’Accettazione e Urgenza\, senza distinzione di appartenenza societaria\, sindacale o politica. \nLa principale finalità è quella di far dialogare i professionisti MEU con i rappresentanti istituzionali\, i decisori\, i sindacati di categoria\, altre società scientifiche ed esperti multidisciplinari con l’obiettivo dell’analisi e del confronto rispetto la reale situazione delle Unità Operative di Pronto Soccorso\, Medicina d’Urgenza e 118. \nVerranno affrontate le problematiche strutturali e organizzative del sistema\, con particolare riferimento alla gravissima carenza di organico e ad altre tematiche non risolte – seppur denunciate da anni dalla nostra Società Scientifica – che sono state acuite e accelerate dalla recente pandemia\, portando il livello di difficoltà nel lavoro e il disagio dei professionisti a livelli storicamente mai raggiunti. \nIl dato inquietante è che la perdita di professionisti nell’ambito dell’Emergenza-Urgenza ha ormai raggiunto livelli massimi e oggi è a serio rischio la qualità dell’assistenza che il Sistema  dell’Emergenza Urgenza può offrire ai cittadini. \nNella realtà dei fatti ci troviamo di fronte alla concreta possibilità di un fallimento che non sarà di una sola categoria\, ma dell’intero Sistema Sanitario Nazionale.\nC’è un’unica possibilità: INTERVENIRE SUBITO CON INTERVENTI STRAORDINARI \nLa politica non può più permettersi di aspettare e/o rimandare: occorre lucidità\, visione\, pianificazione.\nL’obiettivo primario è la tutela della salute dei Cittadini\, come sancito dall’art. 32 della Costituzione della Repubblica.\nAll’evento\, previsto presso l’Hotel Villa Pamphili di Roma\, Via della Nocetta 105\, parteciperanno attivamente almeno 120 professionisti e sarà trasmesso in diretta streaming sui canali societari per poter permettere ai molti Colleghi di seguire i lavori in remoto. \nScarica la LOCANDINA e scopri il calendario dei lavori.
URL:https://federsanita.it/evento/il-sistema-dellemergenza-urgenza-per-la-sopravvivenza-del-ssn-il-futuro-della-sanita-non-si-aspetta-si-costruisce/
ATTACH;FMTTYPE=image/jpeg:https://federsanita.it/wp-content/uploads/2021/11/Simeu-x-sito-fsa-1.jpg
END:VEVENT
BEGIN:VEVENT
DTSTART;TZID=Europe/Rome:20211116T150000
DTEND;TZID=Europe/Rome:20211116T190000
DTSTAMP:20260420T193723
CREATED:20211105T100944Z
LAST-MODIFIED:20211105T100944Z
UID:1384-1637074800-1637089200@federsanita.it
SUMMARY:La mobilità sanitaria transfrontaliera: Opportunità e sfide per il Servizio Sanitario Nazionale
DESCRIPTION:Contesto e obiettivi del seminario \nDal tema della mobilità sanitaria transfrontaliera emergono da un lato problemi giuridici e di gestione amministrativa e dall’altro opportunità di favorire l’attrattività del S.S.N. con un miglioramento della gestione economica e del servizio\, in particolare nei confronti di cittadini di altri Stati membri dell’Unione europea.\nLa crisi sanitaria ha posto sotto i riflettori opportunità e limiti della normativa europea in materia\, sollecitando al tempo stesso una riflessione sui meccanismi di implementazione adottati a livello nazionale. \nD’altra parte\, negli anni scorsi\, sono state realizzate in Italia alcune esperienze pilota volte a rafforzare gli scambi e le collaborazioni con gli altri Stati membri\, individuando strumenti innovativi – come\, per esempio\, l’e-billing – oppure soluzioni tecniche alle criticità emerse rispetto alle differenti procedure tariffarie. \nL’insieme di queste progettualità ha avuto ricadute positive\, per esempio in prossimità delle frontiere terrestri (in Piemonte\, in Friuli Venezia Giulia\, in Provincia di Bolzano) oppure nei confronti delle presenze turistiche estere\, come in Veneto.\nL’obiettivo del seminario-workshop è di delineare e condividere uno stato dell’arte\, che consenta di identificare i temi principali\, di elencare soluzioni possibili e le loro applicazioni\, di valutare quali percorsi possono essere intrapresi e quali strumenti attivati affinché la mobilità sanitaria transfrontaliera costituisca un motivo di crescita organizzativa ed economica\, nonché di miglioramento dell’offerta sanitaria. In particolare\, poi\, migliorare i meccanismi della mobilità sanitaria transfrontaliera può avere un impatto positivo in alcune aree di confine agevolando l’accesso dei cittadini ai servizi pubblici.\nIl seminario si articola in una sessione generale\, in cui viene definito il perimetro attuale del tema della mobilità sanitaria transfrontaliera e le principali sfide che essa comporta\, sia dal punto di vista generale della sanità in Italia sia riguardo ai piani regionali o settoriali\, per esempio di organizzazione o di controllo.\nSegue poi una seconda sessione\, in formato di workshop aperto\, di confronto e discussione\, dedicata da un lato agli aspetti della regolazione economica (costi e tariffazione\, pagamenti e loro modalità ecc.) e dall’altro agli aspetti giuridici e regolamentari\, anche relativi alla direttiva 2011/24/UE\, al Regolamento (CE) n. 883/2004 e alle normative nazionali. \nIn questa seconda sessione si intende discutere dei seguenti ambiti.\na) Sistema di regolazione economica della mobilità sanitaria transfrontaliera: DRG\, tariffe\, pagamenti e modalità elettronica\, differenze tra Paesi membri. \nQuali possono essere i servizi sanitari che possono in tempi brevi essere offerti senza danni o con vantaggi economici\, e con una tariffazione che tenga conto della competitività europea e dell’attrattività? \nCi sono buone pratiche e B-Solutions in altri Paesi europei?\nb) Aspetti giuridici e regolamentari: contesto europeo e nazionale. \nVantaggi e ostacoli ancora esistenti. \nIl funzionamento delle regioni. \nCome facilitare i visa sanitari\, quali sono le difficoltà per il SSN. \nLe questioni di settore: trasporti\, cure farmacologiche\, e proposte esistenti. \nSaluti di\nGiulio Salerno\, Direttore ISSiRFA – CNR\nTiziana Frittelli\, Presidente Federsanità\nGiuseppe Varacalli\, Esecutivo nazionale Federsanità resp. Rapporti internazionali\n\nPrima sessione\nModeratore: Paolo Stocco\, Direttore Federsanità Veneto\nVincenzo Antonelli\, Ricercatore Università Cattolica del Sacro Cuore\nMaria Donata Bellentani\, Direttrice Ufficio II con Lucia Nobile\, dirigente medico Direzione generale della programmazione sanitaria\, Ministero della Salute\nGiancarlo Ruscitti\, Direttore Dip. Salute e politiche sociali\, Provincia autonoma di Trento \nSeconda sessione\nModeratore: Raffaella Coletti\, Ricercatrice ISSiRFA – CNR\nDibattito aperto con i contributi di avvio di Michele Ceruti (Medico Ospedale Briançon-Susa)\,\nLeopoldo Comisso (Referente ASU Friuli Centrale Mobilità sanitaria internazionale)\,\nIvan Curzolo (Direttore GECT GO)\,\nLisa Leonardini (Coordinatore Comitato Tecnico Operativo ProMIS)\n\nConclusioni\nPaolo Stocco\, Direttore Federsanità Veneto\nEnrico Martial\, Esperto Gruppo di Lavoro Europa Federsanità \nClicca sul LINK per registrarti
URL:https://federsanita.it/evento/la-mobilita-sanitaria-transfrontaliera-opportunita-e-sfide-per-il-servizio-sanitario-nazionale/
ATTACH;FMTTYPE=image/jpeg:https://federsanita.it/wp-content/uploads/2021/11/ISIRFA-img-x-sito-fsa-1.jpg
END:VEVENT
END:VCALENDAR